BEGIN:VCALENDAR
VERSION:2.0
PRODID:-//ChamberMaster//Event Calendar 2.0//EN
METHOD:PUBLISH
X-PUBLISHED-TTL:P3D
REFRESH-INTERVAL:P3D
CALSCALE:GREGORIAN
BEGIN:VEVENT
DTSTART:20171004T230000Z
DTEND:20171005T003000Z
X-MICROSOFT-CDO-ALLDAYEVENT:FALSE
SUMMARY:2017-18 Voyages of Discovery Series - Colson Whitehead
DESCRIPTION:Colson Whitehead\, Pulitzer Prize-Winning Novelist\n\nReading and commentary from the author of the novel\, The Underground Railroad\n\nOctober 4\, 2017 | 7:00 PM | Wright Auditorium\n\nColson Whitehead has established himself as one of the most versatile and innovative writers in contemporary literature. From the secret lives of elevators to international poker tournaments\, Whitehead takes on the marginal\, the strange and the surreal. His newest novel\, The Underground Railroad\, is a 2017 Pulitzer Prize winner\, was the 2016 National Book Award winner and appeared at the top of the New York Times bestseller list.\n\n\n\nCo-sponsors include: THCAS\; Harriot College's Center for Natural Hazards Research\; Departments of Anthropology\; Criminal Justice\; Economics\; English\; Geography\, Planning and Environment\; Geological Sciences\; History\; Maritime Studies\; Political Science\; and Sociology\; College of Fine Arts and Communication\; Honors College\; Division of Academic Affairs\; Division of Health Sciences\; Division of Research\, Economic Development\, and Engagement\; Division of Student Affairs\; Institute for Coastal Science and Policy\; and Office of Continuing Studies.
X-ALT-DESC;FMTTYPE=text/html:<p><strong>Colson Whitehead\, Pulitzer Prize-Winning Novelist</strong></p>\n\n<p><strong>Reading and commentary from the author of the novel\,&nbsp\;<em>The Underground Railroad</em></strong></p>\n\n<p>October 4\, 2017 | 7:00 PM | Wright Auditorium</p>\n\n<p>Colson Whitehead has established himself as one of the most versatile and innovative writers in contemporary literature. From the secret lives of elevators to international poker tournaments\, Whitehead takes on the marginal\, the strange and the surreal. His newest novel\,&nbsp\;<em>The Underground Railroad</em>\,&nbsp\;is a 2017 Pulitzer Prize winner\, was the 2016 National Book Award winner and appeared at the top of the&nbsp\;<em>New York Times</em>&nbsp\;bestseller list.<br />\n<br />\n<em>Co-sponsors include: THCAS\; Harriot College&#39\;s Center for Natural Hazards Research\; Departments of Anthropology\;&nbsp\;</em><em>Criminal Justice\;&nbsp\;</em><em>Economics\; English\; Geography\, Planning and Environment\; Geological Sciences\; History\; Maritime Studies\; Political Science\; and Sociology\; College of Fine Arts and Communication\; Honors College\; Division of Academic Affairs\; Division of Health Sciences\; Division of Research\, Economic Development\, and Engagement\; Division of Student Affairs\;</em><em>&nbsp\;Institute for Coastal Science and Policy\; and Office of Continuing Studies</em><em>.</em></p>\n\n<div>&nbsp\;</div>\n
LOCATION:Wright Auditorium East Carolina University Greenville\, NC
UID:e.840.8664
SEQUENCE:3
DTSTAMP:20260423T080334Z
URL:https://business.greenvillenc.org/events/details/2017-18-voyages-of-discovery-series-colson-whitehead-8664
END:VEVENT

END:VCALENDAR
