BEGIN:VCALENDAR
VERSION:2.0
PRODID:-//ChamberMaster//Event Calendar 2.0//EN
METHOD:PUBLISH
X-PUBLISHED-TTL:P3D
REFRESH-INTERVAL:P3D
CALSCALE:GREGORIAN
BEGIN:VEVENT
DTSTART:20161110T230000Z
DTEND:20161111T003000Z
X-MICROSOFT-CDO-ALLDAYEVENT:FALSE
SUMMARY:2016 Honor Card Unveiling
DESCRIPTION:Please join us and help support the needy and homeless in our community by attending the unveiling of artist William Mangum's 2016 Honor Card.  If you would like more information about the honor card\, please visit www.communitycrossroadscenter.org.  No ticket is needed but please RSVP to admin@greenvillecommunityshelter.org or call 252-752-0829
X-ALT-DESC;FMTTYPE=text/html:Please join us and help support the needy and homeless in our community by attending the unveiling of artist William Mangum&#39\;s 2016 Honor Card. &nbsp\;If you would like more information about the honor card\, please visit www.communitycrossroadscenter.org. &nbsp\;No ticket is needed but please RSVP to admin@greenvillecommunityshelter.org or call 252-752-0829
LOCATION:St. James United Methodist Church 2000 E 6th Street Greenville\, NC
UID:e.840.6297
SEQUENCE:3
DTSTAMP:20260423T235639Z
URL:https://business.greenvillenc.org/events/details/2016-honor-card-unveiling-6297
END:VEVENT

END:VCALENDAR
