BEGIN:VCALENDAR
VERSION:2.0
PRODID:-//ChamberMaster//Event Calendar 2.0//EN
METHOD:PUBLISH
X-PUBLISHED-TTL:P3D
REFRESH-INTERVAL:P3D
CALSCALE:GREGORIAN
BEGIN:VEVENT
DTSTART:20161021T000000Z
DTEND:20161021T023000Z
X-MICROSOFT-CDO-ALLDAYEVENT:FALSE
SUMMARY:2016 Down East Cursed Carnival Trail
DESCRIPTION:Are you looking for some serious Halloween fright? Come to where a traveling carnival encamped in the woods near Ayden\, NC in 1926. The locals say they never left.  Tickets available online: Individual-$10\, Student-$8\, Reserved group of 12-$95.
X-ALT-DESC;FMTTYPE=text/html:<span style="color:rgb(0\, 41\, 21)\; font-family:arial\,arial unicode ms\,helvetica\,sans-serif">Are you looking for some serious Halloween fright? Come to where a traveling carnival encamped in the woods near Ayden\, NC in 1926. The locals say they never left. &nbsp\;Tickets available online: Individual-$10\, Student-$8\, Reserved group of 12-$95.</span>
LOCATION:949 Contentnea Lane Grifton\, NC 28530
UID:e.840.6280
SEQUENCE:3
DTSTAMP:20260424T010323Z
URL:https://business.greenvillenc.org/events/details/2016-down-east-cursed-carnival-trail-6280
END:VEVENT

END:VCALENDAR
