BEGIN:VCALENDAR
VERSION:2.0
PRODID:-//ChamberMaster//Event Calendar 2.0//EN
METHOD:PUBLISH
X-PUBLISHED-TTL:P3D
REFRESH-INTERVAL:P3D
CALSCALE:GREGORIAN
BEGIN:VEVENT
DTSTART:20170406T230000Z
DTEND:20170407T010000Z
X-MICROSOFT-CDO-ALLDAYEVENT:FALSE
SUMMARY:2016-17 Voyages of Discovery Lecture Series: The Thomas Harriot Lecture
DESCRIPTION:The Nile Project\n\n"Citizen Diplomacy & Transboundary Water Conflicts"\n\nApril 6\, 2017 | 7:00 pm | Wright Auditorium\n\n\n\nFrom their debut concert\, captured live on the 2013 release ASWAN\, it was clear that the Nile Project was something completely new. NPR named the recording one of five "must hear international albums." Fast forward a couple of years through 2 Africa tours and a 4-month US tour with stops at 25 universities\, the Lincoln Center and the United Nations and almost every major media outlet in the US agrees\, the Nile Project is much more than just a band. According to the New York Times\, The Nile Project is "a committed\, euphoric international coalition."\n\n \n\nSponsors include:\n\nTHCAS\; ECU Division of Academic Affairs\; Division of Health Sciences\; Division of Research\, Economic Development\, and Engagement\; Division of Student Affairs\; College of Fine Arts and Communication\; and the Honors College.
X-ALT-DESC;FMTTYPE=text/html:<div>\n<p><strong>The Nile Project</strong></p>\n\n<p><strong>&quot\;Citizen Diplomacy &amp\; Transboundary Water Conflicts&quot\;</strong></p>\n\n<p>April 6\, 2017 | 7:00 pm | Wright Auditorium<br />\n<br />\nFrom their debut concert\, captured live on the 2013 release ASWAN\, it was clear that the Nile Project was something completely new.&nbsp\;NPR&nbsp\;named the recording one of five &quot\;must hear international albums.&quot\; Fast forward a couple of years&mdash\;through 2 Africa tours and a 4-month US tour with stops at 25 universities\, the Lincoln Center and the United Nations&mdash\;and almost every major media outlet in the US agrees\, the Nile Project is much more than just a band. According to the New York Times\, The Nile Project is &quot\;a committed\, euphoric international coalition.&quot\;</p>\n\n<p>&nbsp\;</p>\n\n<p>Sponsors include:</p>\n\n<p>THCAS\; ECU Division of Academic Affairs\; Division of Health Sciences\; Division of Research\, Economic Development\, and Engagement\; Division of Student Affairs\; College of Fine Arts and Communication\; and the Honors College.</p>\n</div>\n
LOCATION:East Carolina University Wright Auditorium East Fifth Street Greenville\, NC 27858
UID:e.840.5320
SEQUENCE:3
DTSTAMP:20260423T165306Z
URL:https://business.greenvillenc.org/events/details/2016-17-voyages-of-discovery-lecture-series-the-thomas-harriot-lecture-07-06-2016-5320
END:VEVENT

END:VCALENDAR
