BEGIN:VCALENDAR
VERSION:2.0
PRODID:-//ChamberMaster//Event Calendar 2.0//EN
METHOD:PUBLISH
X-PUBLISHED-TTL:P3D
REFRESH-INTERVAL:P3D
CALSCALE:GREGORIAN
BEGIN:VEVENT
DTSTART;VALUE=DATE:20160706
DTEND;VALUE=DATE:20161109
TRANSP:TRANSPARENT
X-MICROSOFT-CDO-ALLDAYEVENT:TRUE
SUMMARY:2016-17 Voyages of Discovery Lecture Series: The Religion and Culture Lecture
DESCRIPTION:Eboo Patel\n\nFounder and President of Interfaith Youth Core\n\n"Interfaith Leadership Can Save the World"\n\nNovember 7\, 2016 | 7:00 pm | Wright Auditorium\n\n \n\nEboo Patel is a member of President Barack Obama's inaugural Advisory Council on Faith-Based Neighborhood Partnerships. He is an American Ismaili of Gujarati Indian heritage and founder and president of Interfaith Youth Core\, a Chicago-based international nonprofit that aims to promote interfaith cooperation.\n\n \n\nCo-sponsors include:\n\nTHCAS\; THCAS Religious Studies Program\; ECU Division of Academic Affairs\; Division of Health Sciences\; Division of Research\, Economic Development\, and Engagement\; Division of Student Affairs\; College of Fine Arts and Communication\; and the Honors College.
X-ALT-DESC;FMTTYPE=text/html:<div>\n<p><strong>Eboo Patel<br />\nFounder and President of Interfaith Youth Core</strong></p>\n\n<p><strong>&quot\;Interfaith Leadership Can Save the World&quot\;</strong></p>\n\n<p>November 7\, 2016 | 7:00 pm | Wright Auditorium<br />\n&nbsp\;</p>\n\n<p>Eboo Patel is a member of President Barack Obama&#39\;s inaugural Advisory Council on Faith-Based Neighborhood Partnerships. He is an American Ismaili of Gujarati Indian heritage and founder and president of Interfaith Youth Core\, a Chicago-based international nonprofit that aims to promote interfaith cooperation.</p>\n\n<p>&nbsp\;</p>\n\n<p>Co-sponsors include:</p>\n\n<p>THCAS\; THCAS Religious Studies Program\; ECU Division of Academic Affairs\; Division of Health Sciences\; Division of Research\, Economic Development\, and Engagement\; Division of Student Affairs\; College of Fine Arts and Communication\; and the Honors College.</p>\n</div>\n
LOCATION:East Carolina University Wright Auditorium East Fifth Street Greenville\, NC 27858
UID:e.840.5318
SEQUENCE:3
DTSTAMP:20260424T000730Z
URL:https://business.greenvillenc.org/events/details/2016-17-voyages-of-discovery-lecture-series-the-religion-and-culture-lecture-07-06-2016-5318
END:VEVENT

END:VCALENDAR
