BEGIN:VCALENDAR
VERSION:2.0
PRODID:-//ChamberMaster//Event Calendar 2.0//EN
METHOD:PUBLISH
X-PUBLISHED-TTL:P3D
REFRESH-INTERVAL:P3D
CALSCALE:GREGORIAN
BEGIN:VEVENT
DTSTART;VALUE=DATE:20160706
DTEND;VALUE=DATE:20160930
TRANSP:TRANSPARENT
X-MICROSOFT-CDO-ALLDAYEVENT:TRUE
SUMMARY:2016-17 Voyages of Discovery Lecture Series: The Premier Lecture
DESCRIPTION:Bob Woodward\n\nPulitzer Prize-Winning Writer and Investigative Reporter\n\n"The Age of the American Presidency"\n\nSeptember 28\, 2016 | 7:30 pm | Wright Auditorium\n\n \n\nCalled "the most celebrated journalist of our age" by The Wall Street Journal\, Bob Woodward has established himself as a journalistic icon who gained international attention when he and Carl Bernstein broke the disturbing news of the Watergate scandal during the Nixon administration. Their book about the scandal\, "All the Presidents Men" won a Pulitzer Prize and was featured on TIME magazine's list of the all-time 100 best non-fiction books as "perhaps the most influential piece of journalism in history."\n\n \n\nCo-sponsors include:\n\nTHCAS\; ECU Division of Academic Affairs\; Division of Health Sciences\; Division of Research\, Economic Development\, and Engagement\; Division of Student Affairs\; College of Fine Arts and Communication\; and the Honors College.
X-ALT-DESC;FMTTYPE=text/html:<p><strong>Bob Woodward<br />\nPulitzer Prize-Winning Writer and Investigative Reporter</strong></p>\n\n<p><strong>&quot\;The Age of the American Presidency&quot\;</strong></p>\n\n<p>September 28\, 2016 | 7:30 pm | Wright Auditorium<br />\n&nbsp\;</p>\n\n<p>Called &ldquo\;the most celebrated journalist of our age&rdquo\; by The Wall Street Journal\, Bob Woodward has established himself as a journalistic icon who gained international attention when he and Carl Bernstein broke the disturbing news of the Watergate scandal during the Nixon administration. Their book about the scandal\, &quot\;All the Presidents Men&quot\; won a Pulitzer Prize and was featured on TIME magazine&rsquo\;s list of the all-time 100 best non-fiction books as &ldquo\;perhaps the most influential piece of journalism in history.&rdquo\;<br />\n&nbsp\;</p>\n\n<p>Co-sponsors include:</p>\n\n<p>THCAS\; ECU Division of Academic Affairs\; Division of Health Sciences\; Division of Research\, Economic Development\, and Engagement\; Division of Student Affairs\; College of Fine Arts and Communication\; and the Honors College.</p>\n
LOCATION:East Carolina University Wright Auditorium East Fifth Street Greenville\, NC 27858
UID:e.840.5317
SEQUENCE:3
DTSTAMP:20260424T040007Z
URL:https://business.greenvillenc.org/events/details/2016-17-voyages-of-discovery-lecture-series-the-premier-lecture-07-06-2016-5317
END:VEVENT

END:VCALENDAR
