BEGIN:VCALENDAR
VERSION:2.0
PRODID:-//ChamberMaster//Event Calendar 2.0//EN
METHOD:PUBLISH
X-PUBLISHED-TTL:P3D
REFRESH-INTERVAL:P3D
CALSCALE:GREGORIAN
BEGIN:VEVENT
DTSTART:20170201T000000Z
DTEND:20170201T020000Z
X-MICROSOFT-CDO-ALLDAYEVENT:FALSE
SUMMARY:2016-17 Voyages of Discovery Lecture Series: The Brewster History Lecture
DESCRIPTION:Keith Wailoo\n\nTownsend Martin Professor of History and Public Affairs at Princeton University \n\n"Pain: A Political History"\n\nJanuary 31\, 2017 | 7:00 pm | Wright Auditorium\n\n \n\nKeith Andrew Wailoo is Townsend Martin Professor of History and Public Affairs at Princeton University where he teaches in the Department of History and the Woodrow Wilson School of Public and International Affairs. He is the former Vice Dean of the Woodrow Wilson School. He is an award-winning author on drugs and drug policy\; race\, science and health\; history of medicine\; and health policy and medical affairs in the U.S.\n\n \n\nCo-sponsors include:\n\nTHCAS\; THCAS Department of History\; ECU Division of Academic Affairs\; Division of Health Sciences\; Division of Research\, Economic Development\, and Engagement\; Division of Student Affairs\; College of Fine Arts and Communication\; the Honors College\; and the Medical History Interest Group.
X-ALT-DESC;FMTTYPE=text/html:<div>\n<p><strong>Keith Wailoo</strong><br />\n<strong>Townsend Martin Professor of History and Public Affairs at Princeton University </strong></p>\n\n<p><strong>&quot\;Pain: A Political History&quot\;</strong></p>\n\n<p>January 31\, 2017 | 7:00 pm | Wright Auditorium<br />\n&nbsp\;</p>\n\n<p>Keith Andrew Wailoo is Townsend Martin Professor of History and Public Affairs at Princeton University where he teaches in the Department of History and the Woodrow Wilson School of Public and International Affairs. He is the former Vice Dean of the Woodrow Wilson School. He is an award-winning author on drugs and drug policy\; race\, science and health\; history of medicine\; and health policy and medical affairs in the U.S.</p>\n\n<p>&nbsp\;</p>\n\n<p>Co-sponsors include:</p>\n\n<p>THCAS\; THCAS Department of History\; ECU Division of Academic Affairs\; Division of Health Sciences\; Division of Research\, Economic Development\, and Engagement\; Division of Student Affairs\; College of Fine Arts and Communication\; the Honors College\; and the Medical History Interest Group.</p>\n</div>\n
LOCATION:East Carolina University Wright Auditorium East Fifth Street Greenville\, NC 27858
UID:e.840.5319
SEQUENCE:3
DTSTAMP:20260423T224154Z
URL:https://business.greenvillenc.org/events/details/2016-17-voyages-of-discovery-lecture-series-the-brewster-history-lecture-07-06-2016-5319
END:VEVENT

END:VCALENDAR
