BEGIN:VCALENDAR
VERSION:2.0
PRODID:-//ChamberMaster//Event Calendar 2.0//EN
METHOD:PUBLISH
X-PUBLISHED-TTL:P3D
REFRESH-INTERVAL:P3D
CALSCALE:GREGORIAN
BEGIN:VEVENT
DTSTART;VALUE=DATE:20170225
DTEND;VALUE=DATE:20170226
TRANSP:TRANSPARENT
X-MICROSOFT-CDO-ALLDAYEVENT:TRUE
SUMMARY:2 Year Anniversary Party! Live Music at Crossbones Tavern- Elephant Convoy
DESCRIPTION:Wilmington\, NC based reggae band Elephant Convoy was formed in 2013 when brothers Javier Rodriquez (guitar\, lead vocals) and Daniel Rodriguez (drums) joined Graham Rattray (bass) to create and pay homage to the roots reggae genre that sparked their musical creativity and conscious spirit. In 2014\, the Convoy began composing original material and added Kay Christiana(keys) and Mike Eakins(vocals\, guitar) to the group soon after\, solidifying the vibrant reggae sound and smooth grooves they're known for locally. The band's first album "Foundation" was released in Spring of 2015. Since then\, Elephant Convoy has opened up for acts such as Collie Buddz\, The Movement\, The Expendables\, RDGLDGRN\, Signal Fire\, TreeHouse\, Sun-Dried Vibes\, Tatanka and more.. The band is currently writing new music and is touring to spread their modern roots reggae vibe. Recently the Convoy has added Andy Stanfill\, a diverse horn player\, to the line up\, helping them achieve a big sound.
X-ALT-DESC;FMTTYPE=text/html:<span style="background-color:rgb(255\, 255\, 255)\; color:rgb(29\, 33\, 41)\; font-family:helvetica neue\,helvetica\,arial\,sans-serif\; font-size:12px">Wilmington\, NC based reggae band Elephant Convoy was formed in 2013 when brothers Javier Rodriquez (guitar\, lead vocals) and Daniel Rodriguez (drums) joined Gra</span><span style="background-color:rgb(255\, 255\, 255)\; color:rgb(29\, 33\, 41)\; font-family:helvetica neue\,helvetica\,arial\,sans-serif\; font-size:12px">ham Rattray (bass) to create and pay homage to the roots reggae genre that sparked their musical creativity and conscious spirit. In 2014\, the Convoy began composing original material and added Kay Christiana(keys) and Mike Eakins(vocals\, guitar) to the group soon after\, solidifying the vibrant reggae sound and smooth grooves they&rsquo\;re known for locally. The band&rsquo\;s first album &ldquo\;Foundation&rdquo\; was released in Spring of 2015. Since then\, Elephant Convoy has opened up for acts such as Collie Buddz\, The Movement\, The Expendables\, RDGLDGRN\, Signal Fire\, TreeHouse\, Sun-Dried Vibes\, Tatanka and more.. The band is currently writing new music and is touring to spread their modern roots reggae vibe. Recently the Convoy has added Andy Stanfill\, a diverse horn player\, to the line up\, helping them achieve a big sound.</span>
LOCATION:114 E. 5th Street Greenville\, NC 27858
UID:e.840.7818
SEQUENCE:3
DTSTAMP:20260423T194152Z
URL:https://business.greenvillenc.org/events/details/2-year-anniversary-party-live-music-at-crossbones-tavern-elephant-convoy-7818
END:VEVENT

END:VCALENDAR
