BEGIN:VCALENDAR
VERSION:2.0
PRODID:-//ChamberMaster//Event Calendar 2.0//EN
METHOD:PUBLISH
X-PUBLISHED-TTL:P3D
REFRESH-INTERVAL:P3D
CALSCALE:GREGORIAN
BEGIN:VEVENT
DTSTART:20161015T140000Z
DTEND:20161015T220000Z
X-MICROSOFT-CDO-ALLDAYEVENT:FALSE
SUMMARY:1st Annual Oktoberfest
DESCRIPTION:The Council on Aging and the Greenville Jaycees are hosting the 1st Annual Greenville Oktoberfest on Saturday\, October 15th\, 2016 at the Council on Aging\, 4551 County Home Road. The proceeds from this year's event will benefit the Council on Aging's Meals on Wheels Program. Currently\, there are over 100 elderly people in Pitt County on the waiting list for this program. This event aims to raise funds to provide one year's worth of daily meals for those on the waiting list. The Council on Aging is 501(c)(3) and all donations are tax deductible.
X-ALT-DESC;FMTTYPE=text/html:The Council on Aging and the Greenville Jaycees are hosting the 1st Annual Greenville Oktoberfest on Saturday\, October&nbsp\;15th\, 2016 at the Council on Aging\, 4551 County Home Road. The proceeds from this year&rsquo\;s event will benefit the Council on&nbsp\;Aging&rsquo\;s Meals on Wheels Program. Currently\, there are over 100 elderly people in Pitt County on the waiting list for this&nbsp\;program. This event aims to raise funds to provide one year&rsquo\;s worth of daily meals for those on the waiting list.&nbsp\;The Council on Aging is 501(c)(3) and all donations are tax deductible.
LOCATION:4551 County Home Road next to the Alice Keene Recreation Center
UID:e.840.6287
SEQUENCE:3
DTSTAMP:20260424T022551Z
URL:https://business.greenvillenc.org/events/details/1st-annual-oktoberfest-6287
END:VEVENT

END:VCALENDAR
