BEGIN:VCALENDAR
VERSION:2.0
PRODID:-//ChamberMaster//Event Calendar 2.0//EN
METHOD:PUBLISH
X-PUBLISHED-TTL:P3D
REFRESH-INTERVAL:P3D
CALSCALE:GREGORIAN
BEGIN:VEVENT
DTSTART;VALUE=DATE:20170429
DTEND;VALUE=DATE:20170430
TRANSP:TRANSPARENT
X-MICROSOFT-CDO-ALLDAYEVENT:TRUE
SUMMARY:19th Annual Triangle Beach Music Festival ~ TBMF Greenville
DESCRIPTION:Saturday April 29th\, 2017...with over 17 years of successful  history... THE Triangle Beach Music Festival has found a new home in Pirate country.....\n\nTBMF Greenville ~ a concert featuring 4 local & regional Beach music/party bands on 1 stage.  After the success of it's 1st year in Greenville last April\, it's back again for a full day of music in a relaxed tailgate atmosphere with many of your friends and neighbors!  Bring your lawn/beach chair and your cooler (NO GLASS ALLOWED) and enjoy the show!  Food vendors/food trucks onsite all day. No other vendors on site for this event. Join us at the Pitt County Fairgrounds for this 1 of a kind Spring ritual!\n\nSponsorship Opportunities available at www.trianglebeach.com
X-ALT-DESC;FMTTYPE=text/html:Saturday April 29th\, 2017...with over 17 years of successful&nbsp\; history... <strong><span style="font-family:comic sans ms">THE Triangle Beach Music Festival has found a new home in Pirate country.....</span></strong><br />\n<span style="font-family:comic sans ms"><strong>TBMF Greenville</strong></span> ~ a concert featuring 4 local &amp\; regional Beach music/party bands on 1 stage.&nbsp\; After the success of it&#39\;s 1st year in Greenville last April\, it&#39\;s back again for a full day of music in a relaxed tailgate atmosphere with many of your friends and neighbors!&nbsp\; Bring your lawn/beach chair and your cooler (NO GLASS ALLOWED) and enjoy the show!&nbsp\; Food vendors/food trucks onsite all day. No other vendors on site for this event. Join us at the Pitt County Fairgrounds for this 1 of a kind Spring ritual!<br />\n<strong><em>Sponsorship Opportunities available at </em><a href="http://www.trianglebeach.com">www.trianglebeach.com</a></strong>
LOCATION:Pitt County Fairgrounds 3901 Greenville Blvd. Greenville\, NC
UID:e.840.7821
SEQUENCE:3
DTSTAMP:20260423T165338Z
URL:https://business.greenvillenc.org/events/details/19th-annual-triangle-beach-music-festival-tbmf-greenville-7821
END:VEVENT

END:VCALENDAR
