BEGIN:VCALENDAR
VERSION:2.0
PRODID:-//ChamberMaster//Event Calendar 2.0//EN
METHOD:PUBLISH
X-PUBLISHED-TTL:P3D
REFRESH-INTERVAL:P3D
CALSCALE:GREGORIAN
BEGIN:VEVENT
DTSTART:20170224T010000Z
DTEND:20170301T030000Z
X-MICROSOFT-CDO-ALLDAYEVENT:FALSE
SUMMARY:1776
DESCRIPTION:1776 America's Prize Winning Musical Music and Lyrics by Sherman Edwards Book by Peter Stone It's the summer of 1776\, and the nation is ready to declare independence...if only our founding fathers can agree to do it! 1776 follows John Adams\, Benjamin Franklin\, and Thomas Jefferson as they attempt to convince the members of the second Continental Congress to vote for independence from the shackles of the British monarchy by signing the Declaration of Independence. The seminal event in American history blazes to vivid life in this most unconventional of musicals. We see the men behind the national icons: proud\, frightened\, uncertain\, irritable\, charming\, often petty\, and ultimately determined to do the right thing for a fledgling nation. Tony Award for Best Musical. Performances are Thursday-Saturday at 8:00 pm\, Sunday at 2:00 pm\, and Monday-Tuesday at 8:00 pm.
X-ALT-DESC;FMTTYPE=text/html:1776 America&#39\;s Prize Winning Musical Music and Lyrics by Sherman Edwards Book by Peter Stone It&#39\;s the summer of 1776\, and the nation is ready to declare independence...if only our founding fathers can agree to do it! 1776 follows John Adams\, Benjamin Franklin\, and Thomas Jefferson as they attempt to convince the members of the second Continental Congress to vote for independence from the shackles of the British monarchy by signing the Declaration of Independence. The seminal event in American history blazes to vivid life in this most unconventional of musicals. We see the men behind the national icons: proud\, frightened\, uncertain\, irritable\, charming\, often petty\, and ultimately determined to do the right thing for a fledgling nation. Tony Award for Best Musical. Performances are Thursday-Saturday at 8:00 pm\, Sunday at 2:00 pm\, and Monday-Tuesday at 8:00 pm.
LOCATION:McGinnis Theatre Greenville\, NC 27858-4353
UID:e.840.7842
SEQUENCE:3
DTSTAMP:20260423T193024Z
URL:https://business.greenvillenc.org/events/details/1776-7842
END:VEVENT

END:VCALENDAR
