BEGIN:VCALENDAR
VERSION:2.0
PRODID:-//ChamberMaster//Event Calendar 2.0//EN
METHOD:PUBLISH
X-PUBLISHED-TTL:P3D
REFRESH-INTERVAL:P3D
CALSCALE:GREGORIAN
BEGIN:VEVENT
DTSTART:20171014T120000Z
DTEND:20171014T160000Z
X-MICROSOFT-CDO-ALLDAYEVENT:FALSE
SUMMARY:11th Annual Good Samaritan Cross Training 5K Race
DESCRIPTION:Every October\, Hope of Glory Ministries facilitates a 5K fundraiser to bring awareness and raise funds.  Please join us as we blend our Annual 5K race and cross training exercises into a beautiful course beginning at Uptown Greenville\, heading towards the Town Commons\, back up 5th Street passing by East Carolina University\, and ending at UBE. Participants can choose between a run\, cross training run\, or a walk and will receive a moisture wicking t-shirt and a race bag with over $50 in coupon value.
X-ALT-DESC;FMTTYPE=text/html:<span style="font-size:14px"><span style="font-family:arial\,helvetica\,sans-serif">Every October\, Hope of Glory Ministries facilitates a 5K fundraiser to bring awareness and raise funds.&nbsp\; Please join us as we blend our Annual 5K race and cross training exercises into a beautiful course beginning at Uptown Greenville\, heading towards the Town Commons\, back up 5th Street passing by East Carolina University\, and ending at UBE. Participants can choose between a run\, cross training run\, or a walk and will receive a moisture wicking t-shirt and a race bag with over $50 in coupon value.</span></span>
LOCATION:Race day registration will be held in the UBE parking lot\, with a race start time of 8 am.
UID:e.840.8634
SEQUENCE:3
DTSTAMP:20260423T075301Z
URL:https://business.greenvillenc.org/events/details/11th-annual-good-samaritan-cross-training-5k-race-8634
END:VEVENT

END:VCALENDAR
