BEGIN:VCALENDAR
VERSION:2.0
PRODID:-//ChamberMaster//Event Calendar 2.0//EN
METHOD:PUBLISH
X-PUBLISHED-TTL:P3D
REFRESH-INTERVAL:P3D
CALSCALE:GREGORIAN
BEGIN:VEVENT
DTSTART:20190914T120000Z
DTEND:20190914T150000Z
X-MICROSOFT-CDO-ALLDAYEVENT:FALSE
SUMMARY:10th Annual Recovery Fest "Recovery Road 5k"
DESCRIPTION:Each September\, The Pitt County Coalition on Substance Abuse (PCCSA) joins the Substance Abuse and Mental Health Services Administration (SAMHSA) to celebrate National Recovery Month. For the past decade\, the PCCSA Recovery Fest has celebrated those in recovery from substance use and other mental health disorders by raising awareness and celebrating those who have made recovery possible in our community. In keeping with the 2019 theme for National Recovery Month\, "Join the Voices for Recovery: Together We Ae Stronger"\, PCCSA is partnering with the ECU Collegiate Recovery Community to bring you the "Recovery Road 5K"!\n\n\n\nSign up for the Recovery Road 5K at the link below!\n\n\n\nhttps://runsignup.com/Race/NC/Greenville/RecoveryRoad5K
X-ALT-DESC;FMTTYPE=text/html:<p>Each September\, The Pitt County Coalition on Substance Abuse (PCCSA) joins the Substance Abuse and Mental Health Services Administration (SAMHSA) to celebrate National Recovery Month. For the past decade\, the PCCSA Recovery Fest has celebrated those in recovery from substance use and other mental health disorders by raising awareness and celebrating those who have made recovery possible in our community. In keeping with the 2019 theme for National Recovery Month\, &ldquo\;Join the Voices for Recovery: Together We Ae Stronger&rdquo\;\, PCCSA is partnering with the ECU Collegiate Recovery Community to bring you the &ldquo\;Recovery Road 5K&rdquo\;!<br />\n<br />\nSign up for the Recovery Road 5K at the link below!<br />\n<br />\n<a href="https://runsignup.com/Race/NC/Greenville/RecoveryRoad5K">https://runsignup.com/Race/NC/Greenville/RecoveryRoad5K</a></p>\n
LOCATION:Town Common 105 E. 1st Street Greenville\, NC US 27834
UID:e.840.10347
SEQUENCE:3
DTSTAMP:20260420T122137Z
URL:https://business.greenvillenc.org/events/details/10th-annual-recovery-fest-recovery-road-5k-10347
END:VEVENT

END:VCALENDAR
