BEGIN:VCALENDAR
VERSION:2.0
PRODID:-//ChamberMaster//Event Calendar 2.0//EN
METHOD:PUBLISH
X-PUBLISHED-TTL:P3D
REFRESH-INTERVAL:P3D
CALSCALE:GREGORIAN
BEGIN:VEVENT
DTSTART;VALUE=DATE:20140408
DTEND;VALUE=DATE:20140409
TRANSP:TRANSPARENT
X-MICROSOFT-CDO-ALLDAYEVENT:TRUE
SUMMARY:10th Annual Enriching Minds Luncheon at the Hilton
DESCRIPTION:
X-ALT-DESC;FMTTYPE=text/html:
LOCATION:Hilton Greenville
UID:e.840.540
SEQUENCE:3
DTSTAMP:20260426T032647Z
URL:https://business.greenvillenc.org/events/details/10th-annual-enriching-minds-luncheon-at-the-hilton-04-08-2014-540
END:VEVENT

END:VCALENDAR
